BEGIN:VCALENDAR
VERSION:2.0
PRODID:-//EarthWays - ECPv6.15.20//NONSGML v1.0//EN
CALSCALE:GREGORIAN
METHOD:PUBLISH
X-WR-CALNAME:EarthWays
X-ORIGINAL-URL:https://earthwaysllc.com
X-WR-CALDESC:Events for EarthWays
REFRESH-INTERVAL;VALUE=DURATION:PT1H
X-Robots-Tag:noindex
X-PUBLISHED-TTL:PT1H
BEGIN:VTIMEZONE
TZID:America/Los_Angeles
BEGIN:DAYLIGHT
TZOFFSETFROM:-0800
TZOFFSETTO:-0700
TZNAME:PDT
DTSTART:20200308T100000
END:DAYLIGHT
BEGIN:STANDARD
TZOFFSETFROM:-0700
TZOFFSETTO:-0800
TZNAME:PST
DTSTART:20201101T090000
END:STANDARD
BEGIN:DAYLIGHT
TZOFFSETFROM:-0800
TZOFFSETTO:-0700
TZNAME:PDT
DTSTART:20210314T100000
END:DAYLIGHT
BEGIN:STANDARD
TZOFFSETFROM:-0700
TZOFFSETTO:-0800
TZNAME:PST
DTSTART:20211107T090000
END:STANDARD
BEGIN:DAYLIGHT
TZOFFSETFROM:-0800
TZOFFSETTO:-0700
TZNAME:PDT
DTSTART:20220313T100000
END:DAYLIGHT
BEGIN:STANDARD
TZOFFSETFROM:-0700
TZOFFSETTO:-0800
TZNAME:PST
DTSTART:20221106T090000
END:STANDARD
END:VTIMEZONE
BEGIN:VTIMEZONE
TZID:UTC
BEGIN:STANDARD
TZOFFSETFROM:+0000
TZOFFSETTO:+0000
TZNAME:UTC
DTSTART:20200101T000000
END:STANDARD
END:VTIMEZONE
BEGIN:VEVENT
DTSTART;VALUE=DATE:20210501
DTEND;VALUE=DATE:20210502
DTSTAMP:20260425T211212
CREATED:20210304T054805Z
LAST-MODIFIED:20210416T020033Z
UID:1754-1619827200-1619913599@earthwaysllc.com
SUMMARY:What Matters Most
DESCRIPTION:A Day Walk With Inquiry of Forgiveness\, Apology\, Love and Goodbye\n\nSliding scale available – please ask your guides!\nNon-refundable deposit $50\nGathering time\, Saturday 8am – 5pm\nLimit 8 due to covid restrictions\n\nThe weak can never forgive. Forgiveness is the attribute of the strong.\n~ Mahatma Gandhi \nThis is the last day walk in a series of 4 seasonal day walks we began last year. It is open to anyone who is interested in joining us\, whether or not you participated last year. \nWhat Matters Most emphasized four inquiries that matter. We believe all of our relationships with the Earth and each other can be tended\, mended\, and nurtured. What if we take time on the land to contemplate what we need to forgive\, what we are grateful for\, what it is we love\, and what it means to say goodbye? Please join us for time on the land\, deep listening and storytelling. \nYou will have a full day to be out on the land to use as you feel called. You may need to rest. Or hike. Maybe called to journal or do art. At the end of the day walk\, we will hold story council and offer you a deep listening and reflection for your life. \nFor more information or to register contact:\ndeborah@earthwaysllc.com \n\n\n  \n\n\n\n\n\n\n\n\n\n\n	To register for this program\, please print and fill out the registration form located here and pay the deposit amount listed above.\n	 \n	You may pay using the form below\, name and email required\, or you can mail a check to the address listed on the registration form. You may also RSVP using the form below without making a payment if you simply want more information.\n	 \n\n\n	 Your name *\n \n	 \n	 Your email *\n \n	 \n	 Phone Number\n \n	 \n	 Comment\n \n	 \n	\n	 \n×
URL:https://earthwaysllc.com/program/what-matters-most/
LOCATION:Pomo Canyon\, Near the Sonoma Coast\, CA
CATEGORIES:EarthWays Offerings
ATTACH;FMTTYPE=image/jpeg:https://earthwaysllc.com/wp-content/uploads/2021/03/WhatMattersMost.jpg
ORGANIZER;CN="Deborah Greene-Jacobi":MAILTO:deborah@earthwaysllc.com
END:VEVENT
BEGIN:VEVENT
DTSTART;VALUE=DATE:20210423
DTEND;VALUE=DATE:20210425
DTSTAMP:20260425T211212
CREATED:20210227T024311Z
LAST-MODIFIED:20210416T015406Z
UID:1596-1619136000-1619308799@earthwaysllc.com
SUMMARY:Sheltering in Nature
DESCRIPTION:A Day Walk with Inquiry\nStart: Friday\, April 23\, 2021 @ 6pm\nEnd: Saturday\, April 24\, 2021 @ 5pm \nThis will include overnight camping\, with an evening Intention Council on Friday night. (Rangers tell us the campsite will open in time for this overnight\, but if it hasn’t\, we will revise the program to be a day walk only for Saturday\, April 24\, 9am-5pm.) \nAfter a long winter lockdown\, we finally have emerged from sheltering in place to the great possibility of sheltering in nature.  Please join us as we dedicate this Friday night and Saturday to reflecting on this last year and all the ways we have learned to be alone. This experience of isolation is especially strong for those who truly do live alone\, and yet most all of us have felt some kind of separation from others\, some kind of aloneness. \nWe will sit and walk with these questions: \n\nWhat does it mean to be alone and live fully with our aloneness?\nHow will we allow the uncomfortable lessons of sheltering in place\, inform our lives going forward into 2021?\n\nAt the end of the day\, we will come together in council to share our stories and offer each other some precious mirroring. \n\nLimit 8 (due to current physical distancing requirements)\nCost: Sliding scale $100 – $160\nNo one turned away for lack of funds\nFee to be adjusted if program is shortened to daylong\n\nFor more information or questions\, please contact Sahara Chaldean at Sahara@earthwaysllc.com \n\n\n  \n\n\n\n\n\n\n\n\n\n\n	This program is full with a wait list.\n	 \n	Please RSVP using the form below if you want to be put on the wait list or for more information about this program.\n	 \n\n\n	 Your name *\n \n	 \n	 Your email *\n \n	 \n	 Phone Number\n \n	 \n	 Comment\n \n	 \n	Full with wait list. Please RSVP to be put on the wait list.\n	\n	\n	 \n×
URL:https://earthwaysllc.com/program/sheltering-in-nature/
LOCATION:Pomo Canyon\, Near the Sonoma Coast\, CA
CATEGORIES:EarthWays Offerings
ATTACH;FMTTYPE=image/jpeg:https://earthwaysllc.com/wp-content/uploads/2021/04/Sheltering-in-nature.jpg
END:VEVENT
END:VCALENDAR